Workbook
Name _GoBack: 'Contract Info and Criteria'!#REF!
Name Category: '[1]BMW - Workings'!$K$150:$K$154
Name Consultant_Type: '[1]BMW - Workings'!$K$177:$K$182
Name Relevant_Panel: '[1]BMW - Workings'!$K$167:$K$175
Name RFR: '[1]BMW - Workings'!$K$132:$K$134
Name SCORE: 'BMW Workings'!$H$43:$H$48
Name SCORE: #REF!
Name Status: '[1]BMW - Workings'!$K$141:$K$148
Name Was_a_Bill_of_Quantity_prepared?: 'Contract Info and Criteria'!#REF!

Sheet Contract Info and Criteria
A1: Consultant Performance Report (low value contracts) | J1: Version 2
J2: TRIM Ref: 07888774
J3: Works Document Library Number: 1490
A4: General Information | J4: Effective date: 1 July 2025
A6: Project or Work Order Name/Description
A8: Project or Work Order No. (as per Ready Contracts or Mainsaver)
A10: Current Project Status | B10: Project Handover
A12: Reporting Officer
A14: Reporting Officer Position Title
A16: Approving Officer (Level 8 or higher)
A18: Approving Officer Position Title
A20: Date of Report (dd/mm/yyyy) | B20: 45839
A22: Commission/Contract Details
A24: Consultant Legal Entity Name
A26: Consultant Engagement Method | B26: Architectural Services Panel
A28: Consultant's Role | B28: Consultant
A30: Contract or Purchase Order No. (as per Ready Contracts or Mainsaver)
A32: Contract Award Date (dd/mm/yyyy) | B32: 45658
A34: Consultant's Representative Name
A36: Reason for performance report | B36: Construction Practical Completion
A39: Performance Measurement Criteria
A41: Project Managers are requested to give a score for each of the five criteria. For guidance on completing each criteria, go to the Guide Notes. Where your score for any criterion is "1", "5" or "N/A" you must detail the reasons for the score.
H42: SCORE
A43: Time Management (20%) | B43: 1 | C43: 2 | D43: 3 | E43: 4 | F43: 5 | G43: N/A | H43: 3
A44: Comments
A45: Quality Management (20%) | B45: 1 | C45: 2 | D45: 3 | E45: 4 | F45: 5 | G45: N/A | H45: 3
A46: Comments
A47: Resource Management (20%) | B47: 1 | C47: 2 | D47: 3 | E47: 4 | F47: 5 | G47: N/A | H47: 3
A48: Comments | J48: The Building and Technical Services (BaTS) team can provide valuable input into the Quality and Resource Management criteria
A49: Contract Administration and Compliance (20%) | B49: 1 | C49: 2 | D49: 3 | E49: 4 | F49: 5 | G49: N/A | H49: 3
A50: Comments
A51: Communications and Relationships (20%) | B51: 1 | C51: 2 | D51: 3 | E51: 4 | F51: 5 | G51: N/A | H51: 3
A52: Comments

Sheet Summary and Additional Comments
A1: Consultant Performance Report Summary (low value contracts)
A4: General Information
A6: Project or Work Order Name | B6: ='Contract Info and Criteria'!B6 -> 0
A8: Project or Work Order Number | B8: ='Contract Info and Criteria'!B8 -> 0
A10: Current Project Status | B10: ='Contract Info and Criteria'!B10 -> Project Handover
A12: Reporting Officer | B12: ='Contract Info and Criteria'!B12 -> 0
A14: Reporting Officer Position Title | B14: ='Contract Info and Criteria'!B14 -> 0
A16: Approving Officer | B16: ='Contract Info and Criteria'!B16 -> 0
A18: Approving Officer Position Title | B18: ='Contract Info and Criteria'!B18 -> 0
A20: Date of Report | B20: ='Contract Info and Criteria'!B20 -> 45839
A22: Commission/Contract Details
A24: Consultant Legal Entity Name | B24: ='Contract Info and Criteria'!B24 -> 0
A26: Consultant Engagement Method | B26: ='Contract Info and Criteria'!B26 -> Architectural Services Panel
A28: Consultant's Role | B28: ='Contract Info and Criteria'!B28 -> Consultant
A30: Contract or Purchase Order Number | B30: ='Contract Info and Criteria'!B30 -> 0
A32: Consultant's Contract Award Date | B32: ='Contract Info and Criteria'!B32 -> 45658
A34: Consultant's Representative Name | B34: ='Contract Info and Criteria'!B34 -> 0
A36: Reason for performance report | B36: ='Contract Info and Criteria'!B36 -> Construction Practical Completion
A39: Overall Performance
A41: Performance Rating | B41: =+'BMW Workings'!S17 -> 0.6
A43: Excellent >=86% | B43: Very Good 75% - 85.9% | D43: Good 60% - 74.9% | F43: Marginal 46% - 59.9% | H43: Unsatisfactory <46%
A44: Well above the acceptable standard of performance | B44: Often exceeds the acceptable standard of performance | D44: Meets the acceptable standard of performance required by the contract | F44: Mostly meets the acceptable standard of performance but has some weaknesses | H44: Well below the acceptable standard of performance
A47: Criteria | B47: Weighting | C47: Score | D47: Comments
A49: Time Management | B49: =+'BMW Workings'!N6 -> 0.2 | C49: =+'Contract Info and Criteria'!H43 -> 3 | D49: =+'Contract Info and Criteria'!B44 -> 0
A51: Quality Management | B51: =+'BMW Workings'!N8 -> 0.2 | C51: =+'Contract Info and Criteria'!H45 -> 3 | D51: =+'Contract Info and Criteria'!B46 -> 0
A53: Resource Management | B53: =+'BMW Workings'!N10 -> 0.2 | C53: =+'Contract Info and Criteria'!H47 -> 3 | D53: =+'Contract Info and Criteria'!B48 -> 0
A55: Contract Administration and Compliance | B55: =+'BMW Workings'!N12 -> 0.2 | C55: =+'Contract Info and Criteria'!H49 -> 3 | D55: =+'Contract Info and Criteria'!B50 -> 0
A57: Communications and Relatioships | B57: =+'BMW Workings'!N14 -> 0.2 | C57: =+'Contract Info and Criteria'!H51 -> 3 | D57: =+'Contract Info and Criteria'!B52 -> 0
A59: Comments by Reporting Officer
A65: Comments by Approving Officer
A71: Date report sent to Consultant: | D71: Email and signed CPR to Consultant is contained in project TRIM folder
A73: Comments by Consultants (including, what Finance could have done differently to improve the outcome of the project)
A80: Approving Officer's reply to consultant's comments
A86: Date response sent to Consultant: | D86: Correspondence contained in project TRIM fol;der
A88: Final Agreed Performance Rating (changes made in consultation with the Consultant (if applicable: detail original score and criteria ratings that have changed as a result of the Consultant's right of response))
A95: Reporting Officer Name | C95: Position Title | F95: Signature | I95: Date
A96: =B12 -> 0 | C96: =B14 -> 0
A99: Approving Officer Name | C99: Position Title | F99: Signature | I99: Date
A100: =B16 -> 0 | C100: =B18 -> 0

Sheet Guide Notes
A1: GUIDE NOTES
A2: Time Management (20%)
A3: In assessing the Consultant’s time management performance, the following should be considered: • Management of the time programme • Adherance to the time programme or timeline • Resourcing. • Progress reports. • Fair consideration of delays caused by other parties.
A4: Quality Management (20%)
A5: The Consultant’s standard of service will generally be measured against the requirements set out in the conditions of engagement documentation. The following should also be considered: • Compliance with the specified brief. • Construction contract documents comply with and where appropriate include relevant Government and Department policies and requirements. • Financial considerations. • Extent to which review and rework is required. • Coordination of documentation. • Any deviations from the guide (ie PDP) have been approved • Adequate number of relevant site inspections at critical times by qualified staff • Extent to which there were any contractual or design issues that caused problems for the construction contractor? • If there were issues, could they be resolved on-site, and did it require any rework? • As-Con drawings were complete, accurate and delivered in a timely manner The Building and Technical Services team are able to provide helpful insight too, so touch base with them at design.reviews@finance.wa.gov.au.
A6: Resource Management (20%)
A7: Consultant contracts that are significant should have an agreed work plan with milestones for intermediate phases of the work as well as a finishing time for the overall contract. In assessing the Consultant’s time management performance the following should be considered: • Compliance with the specified brief. • Timely allocation of appropriate resources to critical activities • Any changes to staff are agreed with the Principal • Updating of the work program to account for unforeseen delays; • Overall progress of the work; • Timely submission of progress reports; and • Delays by the Principal or other parties, outside the Consultant’s control. The Consultant’s management of subconsultants is measured through the Consultant’s ability to coordinate and manage both on and off-site subconsultants to ensure effective performance. This includes: • Legal and contractual obligations, including payment of subconsultants. • Management of subconsultants. • Quality of services. • Coordination of interdependent services. The Building and Technical Services team are able to provide helpful insight too, so touch base with them at design.reviews@finance.wa.gov.au.
A8: Contract Administration and Compliance (20%)
A9: • Compliance with consultancy contract including relevant Government and Department policies and requirements. • Compliance with the administrative and legal requirements of the contract, including timely requests for information or the provision of information such as time programmes, drawings, reports or other documentation.
A10: Communications and Relationships (20%)
A11: Relationship with Principal / Representative in assessing the Consultant’s relationship with the Principal or Department contract administration personnel (including the Superintendent's Representative) the following should be considered: • Timely resolution of issues through open and effective communication. • Non-adversarial approach to dispute resolution with arbitration or litigation reserved as a last resort. • Number of instructions issued to the Consultant under the contract. Relationship with community, client and other stakeholders • Partnering principles with clients and subconsultants. • Manage subconsultants effectively Relationship with Contractor • Timely resolution of issues through open and effective communication. • Non-adversarial approach in managing and resolving issues.
A25: 5

Sheet BMW Workings
B1: Unsatisfactory | C1: Marginal | D1: Good | E1: Very Good | F1: Excellent | G1: N/A | H1: Assessment | I1: Score | J1: Rating
B2: <46% | C2: 46-59.9% | D2: 60-74.9% | E2: 75-85.9% | F2: >=86% | M2: Table 1
B3: 1 | C3: 2 | D3: 3 | E3: 4 | F3: 5 | G3: N/A
H4: a. | I4: b. | J4: c. | K4: d. | L4: e. | M4: f. | N4: g. | O4: h. | P4: i. | Q4: j.
H5: result | I5: score | J5: criteria rating | K5: weighting | L5: include = 1 | M5: weight (unadjust) | N5: weight (adjust) | O5: score (unweight) | P5: score (weight) | Q5: adj score | R5: Performance Rating
A6: =+'Contract Info and Criteria'!A43 -> Time Management (20%) | H6: =+'Contract Info and Criteria'!H43 -> 3 | I6: =IF(H6="N/a",0,H6) -> 3 | J6: =IF(I6>=5,"Excellent",IF(I6>=4,"Very Good",IF(I6>=3,"Good",IF(I6>=2,"Marginal",IF(I6>=1,"Unsatisfactory",IF(I6<=0,"Not Applicable")))))) -> Good | K6: 0.2 | L6: =IF(O6=0,0,1) -> 1 | M6: =IF(L6=0,0,K6) -> 0.2 | N6: =IF(L6=0,0,M6*$K$17/$M$17) -> 0.2 | O6: =+I6/$I$19*K6 -> 0.12 | P6: =IF(L6=0,0,O6*$K$17/$O$17) -> 0.2 | Q6: =+I6*N6 -> 0.6 | S6: =+Q6/$I$19 -> 0.12
A8: =+'Contract Info and Criteria'!A45 -> Quality Management (20%) | H8: =+'Contract Info and Criteria'!H45 -> 3 | I8: =IF(H8="N/a",0,H8) -> 3 | J8: =IF(I8>=5,"Excellent",IF(I8>=4,"Very Good",IF(I8>=3,"Good",IF(I8>=2,"Marginal",IF(I8>=1,"Unsatisfactory",IF(I8<=0,"Not Applicable")))))) -> Good | K8: 0.2 | L8: =IF(O8=0,0,1) -> 1 | M8: =IF(L8=0,0,K8) -> 0.2 | N8: =IF(L8=0,0,M8*$K$17/$M$17) -> 0.2 | O8: =+I8/$I$19*K8 -> 0.12 | P8: =IF(L8=0,0,O8*$K$17/$O$17) -> 0.2 | Q8: =+I8*N8 -> 0.6 | S8: =+Q8/$I$19 -> 0.12
A10: =+'Contract Info and Criteria'!A47 -> Resource Management (20%) | H10: =+'Contract Info and Criteria'!H47 -> 3 | I10: =IF(H10="N/a",0,H10) -> 3 | J10: =IF(I10>=5,"Excellent",IF(I10>=4,"Very Good",IF(I10>=3,"Good",IF(I10>=2,"Marginal",IF(I10>=1,"Unsatisfactory",IF(I10<=0,"Not Applicable")))))) -> Good | K10: 0.2 | L10: =IF(O10=0,0,1) -> 1 | M10: =IF(L10=0,0,K10) -> 0.2 | N10: =IF(L10=0,0,M10*$K$17/$M$17) -> 0.2 | O10: =+I10/$I$19*K10 -> 0.12 | P10: =IF(L10=0,0,O10*$K$17/$O$17) -> 0.2 | Q10: =+I10*N10 -> 0.6 | S10: =+Q10/$I$19 -> 0.12
A12: =+'Contract Info and Criteria'!A49 -> Contract Administration and Compliance (20%) | H12: =+'Contract Info and Criteria'!H49 -> 3 | I12: =IF(H12="N/a",0,H12) -> 3 | J12: =IF(I12>=5,"Excellent",IF(I12>=4,"Very Good",IF(I12>=3,"Good",IF(I12>=2,"Marginal",IF(I12>=1,"Unsatisfactory",IF(I12<=0,"Not Applicable")))))) -> Good | K12: 0.2 | L12: =IF(O12=0,0,1) -> 1 | M12: =IF(L12=0,0,K12) -> 0.2 | N12: =IF(L12=0,0,M12*$K$17/$M$17) -> 0.2 | O12: =+I12/$I$19*K12 -> 0.12 | P12: =IF(L12=0,0,O12*$K$17/$O$17) -> 0.2 | Q12: =+I12*N12 -> 0.6 | S12: =+Q12/$I$19 -> 0.12
A14: =+'Contract Info and Criteria'!A51 -> Communications and Relationships (20%) | H14: =+'Contract Info and Criteria'!H51 -> 3 | I14: =IF(H14="N/a",0,H14) -> 3 | J14: =IF(I14>=5,"Excellent",IF(I14>=4,"Very Good",IF(I14>=3,"Good",IF(I14>=2,"Marginal",IF(I14>=1,"Unsatisfactory",IF(I14<=0,"Not Applicable")))))) -> Good | K14: 0.2 | L14: =IF(O14=0,0,1) -> 1 | M14: =IF(L14=0,0,K14) -> 0.2 | N14: =IF(L14=0,0,M14*$K$17/$M$17) -> 0.2 | O14: =+I14/$I$19*K14 -> 0.12 | P14: =IF(L14=0,0,O14*$K$17/$O$17) -> 0.2 | Q14: =+I14*N14 -> 0.6 | S14: =+Q14/$I$19 -> 0.12
A17: Total | I17: =SUM(I6:I14) -> 15 | K17: =SUM(K6:K14) -> 1 | M17: =SUM(M6:M14) -> 1 | N17: =SUM(N6:N14) -> 1 | O17: =SUM(O6:O14) -> 0.6 | P17: =SUM(P6:P14) -> 1 | Q17: =SUM(Q6:Q14) -> 3 | R17: =IF(S17>=0.86,"Excellent",IF(S17>=0.75,"Very Good",IF(S17>=0.6,"Good",IF(S17>=0.46,"Marginal",IF(S17>0,"Unsatisfactory",IF(S17=0,"Not Applicable")))))) -> Good | S17: =SUM(S6:S16) -> 0.6
A19: Criteria max | I19: 5
A20: Exclude criteria if N/A
A21: Number of criteria included
H22: Explanation of Table 1
A23: Average score | H23: a. | I23: this is inputted into the Contract Info and Criteria sheet
H24: b. | I24: this is the score (ie if a. is N/A, then the score = zero)
A25: Rating | H25: c. | I25: individual criteria rating (removed ratings from the CPR on 9May24 due to inconsistency across individual criteria rating and overall rating, however it remains in the data entry sheet for use in the database)
H26: d. | I26: the weighting for each section
H27: e. | I27: a field to help with calculating - adjusted weighting
A28: DROP DOWN BOXES | H28: f. | I28: unadjusted weighting
A29: Relevant Panel | H29: g. | I29: adjusted weighting (the N/A is distributed proportionally)
A30: Architectural Services Panel | H30: h. | I30: actual score - unweighted
A31: Interior Fitout & Workplace Design Panel | H31: i. | I31: actual score - weighted (the N/A is distributed proportionally)
A32: Engineering and Building Services Panel | H32: j. | I32: adjusted score (total / rating / rating %)
A33: OSH Panel
A34: Other Panel
A35: Open Tender
A37: Status
A38: Project Planning
A39: Schematic Design
A40: Design Documentation
A41: Construction Tender Award | H41: Ratings
A42: In Construction
A43: Project Handover | H43: 1 | I43: Unsatisfactory
A44: In Defects Liability Period | H44: 2 | I44: Marginal
A45: Finalisation of Contract | H45: 3 | I45: Good
H46: 4 | I46: Very Good
A47: Reason for report | H47: 5 | I47: Excellent
A48: Construction Contract Award | H48: N/A | I48: Not Applicable
A49: Construction Practical Completion
A50: Contract Completion
A51: Exception Reporting
A52: Other
A54: Consultant Role
A55: Lead Consultant | F55: Score | G55: Definition
A56: Lead Consultant/Supers Rep | F56: 1 | G56: Well below the acceptable standard of performance. Comments must be provided to explain how the supplier performed so poorly.
A57: Consultant | F57: 2 | G57: Mostly meets the acceptable standard of performance but has some weaknesses.
A58: Project Manager | F58: 3 | G58: Meets the acceptable standard of performance.
A59: Project Manager/Supers Rep | F59: 4 | G59: Often exceeds the acceptable stand of performance.
A60: Supers Rep | F60: 5 | G60: Well above the acceptable standard of performance. Comments must be provided to explain how the supplier consistently exceeded the requirements.
A61: Other | F61: N/A | G61: Comments must be provided to explain why this criterion is not applicable

Sheet Data Entry
A1: Consultant Performance Report Summary Database
A2: General information and Contract details | M2: =+'BMW Workings'!A6 -> Time Management (20%) | R2: =+'BMW Workings'!A8 -> Quality Management (20%) | W2: =+'BMW Workings'!A10 -> Resource Management (20%) | AB2: =+'BMW Workings'!A12 -> Contract Administration and Compliance (20%) | AG2: =+'BMW Workings'!A14 -> Communications and Relationships (20%) | AM2: Performance Rating | AN2: Performance Score | AO2: Reporting and Approving Officer Comments | AP2: Consultant Comments
A3: Report Used | B3: Relevant Panel | C3: Project Name | D3: Project Number | E3: Reporting Officer | F3: Approving Officer | G3: Date report completed | I3: Consultant Name | J3: Consultant Type | K3: Contract Number | L3: Reason for Report | O3: Rating | P3: Score | Q3: Percentage | T3: Rating | U3: Score | V3: Percentage | Y3: Rating | Z3: Score | AA3: Percentage | AD3: Rating | AE3: Score | AF3: Percentage | AJ3: Rating | AK3: Score | AL3: Percentage
A4: simple | B4: ='Contract Info and Criteria'!B26 -> Architectural Services Panel | C4: =+'Contract Info and Criteria'!B6 -> 0 | D4: ='Contract Info and Criteria'!B8 -> 0 | E4: =+'Contract Info and Criteria'!B12 -> 0 | F4: =+'Contract Info and Criteria'!B16 -> 0 | G4: =+'Contract Info and Criteria'!B20 -> 45839 | I4: =+'Contract Info and Criteria'!B24 -> 0 | J4: =+'Contract Info and Criteria'!B28 -> Consultant | K4: =+'Contract Info and Criteria'!B30 -> 0 | L4: =+'Contract Info and Criteria'!B36 -> Construction Practical Completion | O4: =+'BMW Workings'!J6 -> Good | P4: =+'BMW Workings'!I6 -> 3 | Q4: =+'BMW Workings'!S6 -> 0.12 | T4: =+'BMW Workings'!J8 -> Good | U4: =+'BMW Workings'!I8 -> 3 | V4: =+'BMW Workings'!S8 -> 0.12 | Y4: =+'BMW Workings'!J10 -> Good | Z4: =+'BMW Workings'!I10 -> 3 | AA4: =+'BMW Workings'!S10 -> 0.12 | AD4: =+'BMW Workings'!J12 -> Good | AE4: =+'BMW Workings'!I12 -> 3 | AF4: =+'BMW Workings'!S12 -> 0.12 | AJ4: =+'BMW Workings'!J14 -> Good | AK4: =+'BMW Workings'!I14 -> 3 | AL4: =+'BMW Workings'!S14 -> 0.12 | AM4: =+'BMW Workings'!R17 -> Good | AN4: =+'BMW Workings'!S17 -> 0.6 | AO4: =CONCATENATE('Summary and Additional Comments'!A60," ",'Summary and Additional Comments'!A66) | AP4: ='Summary and Additional Comments'!A74 -> 0
